Workbook
Name AllData: Data!$A:$I
Name Category: 'Drop Down Menus'!$C$2:$C$999
Name Data_Unit: 'Drop Down Menus'!$E$2:$E$999
Name Emission_Source: 'Drop Down Menus'!$B$2:$B$999
Name Inventory_Type: 'Drop Down Menus'!$A$2:$A$999

Sheet Introduction
A2: Welcome to the Municipal Greenhouse Gas Emissions Inventory Tool
A4: The purpose of this tool is to assist municipal officials in South Africa to easily assess greenhouse gasses in their municipality
A6: Step 1: Capture Data
A7: You can capture different types of data in the "Data" sheet
A9: The data needs to be in a particular format, which will be highlighted in the column "Unit"
A10: - For example Electricity data needs to be in kWh
A11: - The data type of data you need is also listed in the "EmissionFactors" sheets
A12: The Red Columns are automatically calculated, so you shouldnt have to type anything in these columns
A13: The Blue Columns are drop down menues, where you just select the type of data you want
A15: Step 2: Allocate Data to Inventory Type
A16: Once you have recorded your data you can select the data as either "Municipal" or "Community" under the column "Inventory Type"
A17: -This allows you to generate an GHG inventory for the whole municipal area or just for the municipality as an organisation.
... A20: Once your data has been captured, you can review the graphs of the date under the GHGScope and GHGType sheets

Sheet Data
A1: ='Drop Down Menus'!A1 -> Inventory Type | B1: ='Drop Down Menus'!B1 -> Emission Source | C1: Amount | D1: ='Drop Down Menus'!E1 -> Unit | E1: Emission Factor | F1: Total tCO2e | G1: Scope | H1: Category | I1: Comment
A2: Community | B2: Fuel Solid - Coal (domestic) | C2: 500 | D2: =IF(C2="","",VLOOKUP(B2,EmissionFactors!A:F,5,FALSE)) -> tonnes | E2: =IF(C2="","",VLOOKUP(B2,EmissionFactors!A:F,6,FALSE)) -> 2856.7026 | F2: =IF(C2="","",E2*C2/1000) -> 1428.3513 | G2: =IF(B2="","",VLOOKUP(B2,EmissionFactors!A:D,2,FALSE)) -> Scope 1 | H2: =IF(B2="","",VLOOKUP(B2,EmissionFactors!A:D,3,FALSE)) -> Fuel Combustion
A3: Municipal | B3: Fuel Liquid - Petrol | C3: 500 | D3: =IF(C3="","",VLOOKUP(B3,EmissionFactors!A:F,5,FALSE)) -> litres | E3: =IF(C3="","",VLOOKUP(B3,EmissionFactors!A:F,6,FALSE)) -> 2.3025 | F3: =IF(C3="","",E3*C3/1000) -> 1.15125 | G3: =IF(B3="","",VLOOKUP(B3,EmissionFactors!A:D,2,FALSE)) -> Scope 1 | H3: =IF(B3="","",VLOOKUP(B3,EmissionFactors!A:D,3,FALSE)) -> Fuel Combustion
A4: Municipal | B4: Electricity - Municipal Supplied Streetlights | C4: 500 | D4: =IF(C4="","",VLOOKUP(B4,EmissionFactors!A:F,5,FALSE)) -> KWh | E4: =IF(C4="","",VLOOKUP(B4,EmissionFactors!A:F,6,FALSE)) -> 1.03 | F4: =IF(C4="","",E4*C4/1000) -> 0.515 | G4: =IF(B4="","",VLOOKUP(B4,EmissionFactors!A:D,2,FALSE)) -> Scope 2 | H4: =IF(B4="","",VLOOKUP(B4,EmissionFactors!A:D,3,FALSE)) -> Electricity
A5: Community | B5: Electricity - Non - Renewable Energy Embedded Generators | C5: 500 | D5: =IF(C5="","",VLOOKUP(B5,EmissionFactors!A:F,5,FALSE)) -> KWh | E5: =IF(C5="","",VLOOKUP(B5,EmissionFactors!A:F,6,FALSE)) -> 1.03 | F5: =IF(C5="","",E5*C5/1000) -> 0.515 | G5: =IF(B5="","",VLOOKUP(B5,EmissionFactors!A:D,2,FALSE)) -> Scope 2 | H5: =IF(B5="","",VLOOKUP(B5,EmissionFactors!A:D,3,FALSE)) -> Electricity
A6: Community | B6: Livestock - Goats | C6: 500 | D6: =IF(C6="","",VLOOKUP(B6,EmissionFactors!A:F,5,FALSE)) -> head | E6: =IF(C6="","",VLOOKUP(B6,EmissionFactors!A:F,6,FALSE)) -> 125 | F6: =IF(C6="","",E6*C6/1000) -> 62.5 | G6: =IF(B6="","",VLOOKUP(B6,EmissionFactors!A:D,2,FALSE)) -> Scope 1 | H6: =IF(B6="","",VLOOKUP(B6,EmissionFactors!A:D,3,FALSE)) -> Other
A7: Municipal | B7: Flights - Domestic | C7: 500 | D7: =IF(C7="","",VLOOKUP(B7,EmissionFactors!A:F,5,FALSE)) -> Passenger KM | E7: =IF(C7="","",VLOOKUP(B7,EmissionFactors!A:F,6,FALSE)) -> 0.14735 | F7: =IF(C7="","",E7*C7/1000) -> 0.073675 | G7: =IF(B7="","",VLOOKUP(B7,EmissionFactors!A:D,2,FALSE)) -> Scope 3 | H7: =IF(B7="","",VLOOKUP(B7,EmissionFactors!A:D,3,FALSE)) -> Other
A8: Community | B8: Livestock - Cattle (Dairy) | C8: 500 | D8: =IF(C8="","",VLOOKUP(B8,EmissionFactors!A:F,5,FALSE)) -> head | E8: =IF(C8="","",VLOOKUP(B8,EmissionFactors!A:F,6,FALSE)) -> 900 | F8: =IF(C8="","",E8*C8/1000) -> 450 | G8: =IF(B8="","",VLOOKUP(B8,EmissionFactors!A:D,2,FALSE)) -> Scope 1 | H8: =IF(B8="","",VLOOKUP(B8,EmissionFactors!A:D,3,FALSE)) -> Other
A9: Community | B9: Fuel Gas - LPG | C9: 500 | D9: =IF(C9="","",VLOOKUP(B9,EmissionFactors!A:F,5,FALSE)) -> litres | E9: =IF(C9="","",VLOOKUP(B9,EmissionFactors!A:F,6,FALSE)) -> 0.23041 | F9: =IF(C9="","",E9*C9/1000) -> 0.115205 | G9: =IF(B9="","",VLOOKUP(B9,EmissionFactors!A:D,2,FALSE)) -> Scope 1 | H9: =IF(B9="","",VLOOKUP(B9,EmissionFactors!A:D,3,FALSE)) -> Fuel Combustion
D10: =IF(C10="","",VLOOKUP(B10,EmissionFactors!A:F,5,FALSE)) | E10: =IF(C10="","",VLOOKUP(B10,EmissionFactors!A:F,6,FALSE)) | F10: =IF(C10="","",E10*C10/1000) | G10: =IF(B10="","",VLOOKUP(B10,EmissionFactors!A:D,2,FALSE)) | H10: =IF(B10="","",VLOOKUP(B10,EmissionFactors!A:D,3,FALSE))
D11: =IF(C11="","",VLOOKUP(B11,EmissionFactors!A:F,5,FALSE)) | E11: =IF(C11="","",VLOOKUP(B11,EmissionFactors!A:F,6,FALSE)) | F11: =IF(C11="","",E11*C11/1000) | G11: =IF(B11="","",VLOOKUP(B11,EmissionFactors!A:D,2,FALSE)) | H11: =IF(B11="","",VLOOKUP(B11,EmissionFactors!A:D,3,FALSE))
D12: =IF(C12="","",VLOOKUP(B12,EmissionFactors!A:F,5,FALSE)) | E12: =IF(C12="","",VLOOKUP(B12,EmissionFactors!A:F,6,FALSE)) | F12: =IF(C12="","",E12*C12/1000) | G12: =IF(B12="","",VLOOKUP(B12,EmissionFactors!A:D,2,FALSE)) | H12: =IF(B12="","",VLOOKUP(B12,EmissionFactors!A:D,3,FALSE))
D13: =IF(C13="","",VLOOKUP(B13,EmissionFactors!A:F,5,FALSE)) | E13: =IF(C13="","",VLOOKUP(B13,EmissionFactors!A:F,6,FALSE)) | F13: =IF(C13="","",E13*C13/1000) | G13: =IF(B13="","",VLOOKUP(B13,EmissionFactors!A:D,2,FALSE)) | H13: =IF(B13="","",VLOOKUP(B13,EmissionFactors!A:D,3,FALSE))
D14: =IF(C14="","",VLOOKUP(B14,EmissionFactors!A:F,5,FALSE)) | E14: =IF(C14="","",VLOOKUP(B14,EmissionFactors!A:F,6,FALSE)) | F14: =IF(C14="","",E14*C14/1000) | G14: =IF(B14="","",VLOOKUP(B14,EmissionFactors!A:D,2,FALSE)) | H14: =IF(B14="","",VLOOKUP(B14,EmissionFactors!A:D,3,FALSE))
D15: =IF(C15="","",VLOOKUP(B15,EmissionFactors!A:F,5,FALSE)) | E15: =IF(C15="","",VLOOKUP(B15,EmissionFactors!A:F,6,FALSE)) | F15: =IF(C15="","",E15*C15/1000) | G15: =IF(B15="","",VLOOKUP(B15,EmissionFactors!A:D,2,FALSE)) | H15: =IF(B15="","",VLOOKUP(B15,EmissionFactors!A:D,3,FALSE))
D16: =IF(C16="","",VLOOKUP(B16,EmissionFactors!A:F,5,FALSE)) | E16: =IF(C16="","",VLOOKUP(B16,EmissionFactors!A:F,6,FALSE)) | F16: =IF(C16="","",E16*C16/1000) | G16: =IF(B16="","",VLOOKUP(B16,EmissionFactors!A:D,2,FALSE)) | H16: =IF(B16="","",VLOOKUP(B16,EmissionFactors!A:D,3,FALSE))
D17: =IF(C17="","",VLOOKUP(B17,EmissionFactors!A:F,5,FALSE)) | E17: =IF(C17="","",VLOOKUP(B17,EmissionFactors!A:F,6,FALSE)) | F17: =IF(C17="","",E17*C17/1000) | G17: =IF(B17="","",VLOOKUP(B17,EmissionFactors!A:D,2,FALSE)) | H17: =IF(B17="","",VLOOKUP(B17,EmissionFactors!A:D,3,FALSE))
D18: =IF(C18="","",VLOOKUP(B18,EmissionFactors!A:F,5,FALSE)) | E18: =IF(C18="","",VLOOKUP(B18,EmissionFactors!A:F,6,FALSE)) | F18: =IF(C18="","",E18*C18/1000) | G18: =IF(B18="","",VLOOKUP(B18,EmissionFactors!A:D,2,FALSE)) | H18: =IF(B18="","",VLOOKUP(B18,EmissionFactors!A:D,3,FALSE))
D19: =IF(C19="","",VLOOKUP(B19,EmissionFactors!A:F,5,FALSE)) | E19: =IF(C19="","",VLOOKUP(B19,EmissionFactors!A:F,6,FALSE)) | F19: =IF(C19="","",E19*C19/1000) | G19: =IF(B19="","",VLOOKUP(B19,EmissionFactors!A:D,2,FALSE)) | H19: =IF(B19="","",VLOOKUP(B19,EmissionFactors!A:D,3,FALSE))
D20: =IF(C20="","",VLOOKUP(B20,EmissionFactors!A:F,5,FALSE)) | E20: =IF(C20="","",VLOOKUP(B20,EmissionFactors!A:F,6,FALSE)) | F20: =IF(C20="","",E20*C20/1000) | G20: =IF(B20="","",VLOOKUP(B20,EmissionFactors!A:D,2,FALSE)) | H20: =IF(B20="","",VLOOKUP(B20,EmissionFactors!A:D,3,FALSE))
D21: =IF(C21="","",VLOOKUP(B21,EmissionFactors!A:F,5,FALSE)) | E21: =IF(C21="","",VLOOKUP(B21,EmissionFactors!A:F,6,FALSE)) | F21: =IF(C21="","",E21*C21/1000) | G21: =IF(B21="","",VLOOKUP(B21,EmissionFactors!A:D,2,FALSE)) | H21: =IF(B21="","",VLOOKUP(B21,EmissionFactors!A:D,3,FALSE))
... D1000: =IF(C1000="","",VLOOKUP(B1000,EmissionFactors!A:F,5,FALSE)) | E1000: =IF(C1000="","",VLOOKUP(B1000,EmissionFactors!A:F,6,FALSE)) | F1000: =IF(C1000="","",E1000*C1000/1000) | G1000: =IF(B1000="","",VLOOKUP(B1000,EmissionFactors!A:D,2,FALSE)) | H1000: =IF(B1000="","",VLOOKUP(B1000,EmissionFactors!A:D,3,FALSE))

Sheet GHGScope
A1: SUM of Total tCO2e | B1: Inventory Type
A2: Scope | B2: Community | C2: Municipal | D2: Grand Total
A3: Scope 1 | B3: 1940.9665 | C3: 1.15125 | D3: 1942.1178
A4: Scope 2 | B4: 0.515 | C4: 0.515 | D4: 1.03
A5: Scope 3 | C5: 0.073675 | D5: 0.073675
A6: Grand Total | B6: 1941.4815 | C6: 1.739925 | D6: 1943.2214

Sheet GHGType
A1: SUM of Total tCO2e | B1: Inventory Type
A2: Category | B2: Community | C2: Municipal | D2: Grand Total
A3: Electricity | B3: 0.515 | C3: 0.515 | D3: 1.03
A4: Fuel Combustion | B4: 1428.4665 | C4: 1.15125 | D4: 1429.6178
A5: Other | B5: 512.5 | C5: 0.073675 | D5: 512.57367
A6: Grand Total | B6: 1941.4815 | C6: 1.739925 | D6: 1943.2214

Sheet EmissionFactors
A1: Emission Source | B1: Scope | C1: Category | D1: Sub-Category | E1: Unit | F1: Total kg CO2e | G1: Emission Unit | H1: Reference | I1: Hyperlink
A2: Fuel Liquid - Jet Fuel | B2: Scope 1 | C2: Fuel Combustion | D2: Liquid fuels | E2: litres | F2: 2.53279 | G2: kg CO2e per unit | H2: 2016, Defra GHG Conversion Factors (Aviation turbine fuel) | I2: https://www.gov.uk/government/publications/greenhouse-gas-reporting-conversion-factors-2016
A3: Fuel Liquid - Aviation Gasoline | B3: Scope 1 | C3: Fuel Combustion | D3: Liquid fuels | E3: litres | F3: 2.25524 | G3: kg CO2e per unit | H3: 2016, Defra GHG Conversion Factors (Aviation spirit) | I3: https://www.gov.uk/government/publications/greenhouse-gas-reporting-conversion-factors-2016
A4: Fuel Liquid - Diesel | B4: Scope 1 | C4: Fuel Combustion | D4: Liquid fuels | E4: litres | F4: 2.6762 | G4: kg CO2e per unit | H4: 2016, Defra GHG Conversion Factors (100% mineral diesel) | I4: https://www.gov.uk/government/publications/greenhouse-gas-reporting-conversion-factors-2016
A5: Fuel Liquid - Furnace Oil | B5: Scope 1 | C5: Fuel Combustion | D5: Liquid fuels | E5: litres | F5: 3.18058 | G5: kg CO2e per unit | H5: 2016, Defra GHG Conversion Factors (Fuel Oil) | I5: https://www.gov.uk/government/publications/greenhouse-gas-reporting-conversion-factors-2016
A6: Fuel Gas - LPG | B6: Scope 1 | C6: Fuel Combustion | D6: Gaseous fuels | E6: litres | F6: 0.23041 | G6: kg CO2e per unit | H6: 2016, Defra GHG Conversion Factors (LPG) | I6: https://www.gov.uk/government/publications/greenhouse-gas-reporting-conversion-factors-2016
A7: Fuel Liquid - Paraffin | B7: Scope 1 | C7: Fuel Combustion | D7: Liquid fuels | E7: litres | F7: 2.53232 | G7: kg CO2e per unit | H7: 2016, Defra GHG Conversion Factors (Burning Oil) | I7: https://www.gov.uk/government/publications/greenhouse-gas-reporting-conversion-factors-2016
A8: Fuel Liquid - Petrol | B8: Scope 1 | C8: Fuel Combustion | D8: Liquid fuels | E8: litres | F8: 2.3025 | G8: kg CO2e per unit | H8: 2016, Defra GHG Conversion Factors (100% mineral petrol) | I8: https://www.gov.uk/government/publications/greenhouse-gas-reporting-conversion-factors-2016
A9: Fuel Gas - CNG | B9: Scope 1 | C9: Fuel Combustion | D9: Gaseous fuels | E9: litres | F9: 0.47527 | G9: kg CO2e per unit | H9: 2016, Defra GHG Conversion Factors (CNG) | I9: https://www.gov.uk/government/publications/greenhouse-gas-reporting-conversion-factors-2016
A10: Fuel Gas - LNG | B10: Scope 1 | C10: Fuel Combustion | D10: Gaseous fuels | E10: litres | F10: 1.22888 | G10: kg CO2e per unit | H10: 2016, Defra GHG Conversion Factors (LNG) | I10: https://www.gov.uk/government/publications/greenhouse-gas-reporting-conversion-factors-2016
A11: Fuel Gas - Natural Gas | B11: Scope 1 | C11: Fuel Combustion | D11: Gaseous fuels | E11: cubic meters | F11: 2.02838 | G11: kg CO2e per unit | H11: 2016, Defra GHG Conversion Factors (Natural Gas) | I11: https://www.gov.uk/government/publications/greenhouse-gas-reporting-conversion-factors-2016
A12: Fuel Liquid - Marine fuel oil | B12: Scope 1 | C12: Fuel Combustion | D12: Liquid fuels | E12: tonnes | F12: 3.20324 | G12: kg CO2e per unit | H12: 2016, Defra GHG Conversion Factors (Marine Fuel Oil) | I12: https://www.gov.uk/government/publications/greenhouse-gas-reporting-conversion-factors-2016
A13: Fuel Solid - Coal (industrial) | B13: Scope 1 | C13: Fuel Combustion | D13: Solid fuels | E13: tonnes | F13: 2417.4641 | G13: kg CO2e per unit | H13: 2016, Defra GHG Conversion Factors (Coal Industrial) | I13: https://www.gov.uk/government/publications/greenhouse-gas-reporting-conversion-factors-2016
... A29: Electricity - Municipal Transmission Losses | B29: Scope 2 | C29: Electricity | D29: Municipal Electricity | E29: KWh | F29: 1.03 | G29: kg CO2e per unit | H29: Eskom Integrated report 31 March 2015 (Total Energy Sold) | I29: http://www.eskom.co.za/IR2015/Documents/Eskom_fact_sheets_2015.pdf
A30: Electricity - Renewable Energy Embedded Generators | B30: Scope 2 | C30: Electricity | D30: Other Electricity | E30: KWh | F30: -1.03 | G30: kg CO2e per unit
A31: Electricity - Non - Renewable Energy Embedded Generators | B31: Scope 2 | C31: Electricity | D31: Other Electricity | E31: KWh | F31: 1.03 | G31: kg CO2e per unit | H31: Eskom Integrated report 31 March 2015 (Total Energy Sold) | I31: http://www.eskom.co.za/IR2015/Documents/Eskom_fact_sheets_2015.pdf
A32: Livestock - Goats | B32: Scope 1 | C32: Other | D32: Livestock | E32: head | F32: =5*25 -> 125 | G32: kg CO2e per unit | H32: 2006 IPCC Guidelines (Emission Factor Detail (ID: 43093)) | I32: http://www.ipcc-nggip.iges.or.jp/EFDB/find_ef_id.php
A33: Livestock - Cattle (Non Dairy) | B33: Scope 1 | C33: Other | D33: Livestock | E33: head | F33: =26*25 -> 650 | G33: kg CO2e per unit | H33: 2006 IPCC Guidelines (Emission Factor Detail (ID: 421099)) | I33: http://www.ipcc-nggip.iges.or.jp/EFDB/find_ef_id.php
A34: Livestock - Sheep | B34: Scope 1 | C34: Other | D34: Livestock | E34: head | F34: =5*25 -> 125 | G34: kg CO2e per unit | H34: 2006 IPCC Guidelines (Emission Factor Detail (ID: 43091)) | I34: http://www.ipcc-nggip.iges.or.jp/EFDB/find_ef_id.php
A35: Livestock - Cattle (Dairy) | B35: Scope 1 | C35: Other | D35: Livestock | E35: head | F35: =36*25 -> 900 | G35: kg CO2e per unit | H35: 2006 IPCC Guidelines (Emission Factor Detail (ID: 43116)) | I35: http://www.ipcc-nggip.iges.or.jp/EFDB/find_ef_id.php

Sheet Drop Down Menus
A1: Inventory Type | B1: =EmissionFactors!A1 -> Emission Source | C1: =EmissionFactors!C1 -> Category | D1: =EmissionFactors!D1 -> Sub-Category | E1: Unit
A2: Community | B2: Electricity - Eskom General Supply | C2: Electricity | D2: Business Travel | E2: cubic meters
A3: Municipal | B3: Electricity - Eskom Supplied Buildings & Facilities | C3: Fuel Combustion | D3: Eskom | E3: head
B4: Electricity - Eskom Supplied Streetlights | C4: Other | D4: Gaseous fuels | E4: KWh
B5: Electricity - Eskom Transmission Losses | D5: Liquid fuels | E5: litres
B6: Electricity - Municipal General Supply | D6: Livestock | E6: Passenger KM
B7: Electricity - Municipal Supplied Buildings & Facilities | D7: Municipal Electricity | E7: tonnes
B8: Electricity - Municipal Supplied Streetlights | D8: Other Electricity
B9: Electricity - Municipal Transmission Losses | D9: Solid fuels
B10: Electricity - Non - Renewable Energy Embedded Generators | D10: Waste
B11: Electricity - Renewable Energy Embedded Generators
B12: Flights - Domestic
B13: Flights - Long-haul International
B14: Flights - Short-haul International
B15: Fuel Gas - CNG
B16: Fuel Gas - LNG
B17: Fuel Gas - LPG
B18: Fuel Gas - Natural Gas
B19: Fuel Gas - Refinery Gas
B20: Fuel Liquid - Aviation Gasoline
B21: Fuel Liquid - Diesel
B22: Fuel Liquid - Furnace Oil
... B35: Waste - Municipal
